BEGIN:VCALENDAR
VERSION:2.0
PRODID:-//InvisionCommunity Events 4.7.24//EN
METHOD:PUBLISH
CALSCALE:GREGORIAN
REFRESH-INTERVAL:PT15M
X-PUBLISHED-TTL:PT15M
X-WR-CALNAME:Forumowy Kalendarz
NAME:Forumowy Kalendarz
BEGIN:VTIMEZONE
TZID:Europe/London
TZURL:http://tzurl.org/zoneinfo/Europe/London
X-LIC-LOCATION:Europe/London
BEGIN:DAYLIGHT
TZOFFSETFROM:+0000
TZOFFSETTO:+0100
TZNAME:BST
DTSTART:20180325T020000Z
RRULE:FREQ=YEARLY;BYMONTH=3;BYDAY=-1SU
END:DAYLIGHT
BEGIN:STANDARD
TZOFFSETFROM:+0100
TZOFFSETTO:+0000
TZNAME:GMT
DTSTART:20181028T020000Z
RRULE:FREQ=YEARLY;BYMONTH=10;BYDAY=-1SU
END:STANDARD
END:VTIMEZONE
BEGIN:VTIMEZONE
TZID:Europe/London
TZURL:http://tzurl.org/zoneinfo/Europe/London
X-LIC-LOCATION:Europe/London
BEGIN:DAYLIGHT
TZOFFSETFROM:+0000
TZOFFSETTO:+0100
TZNAME:BST
DTSTART:20150329T020000Z
RRULE:FREQ=YEARLY;BYMONTH=3;BYDAY=-1SU
END:DAYLIGHT
BEGIN:STANDARD
TZOFFSETFROM:+0100
TZOFFSETTO:+0000
TZNAME:GMT
DTSTART:20151025T020000Z
RRULE:FREQ=YEARLY;BYMONTH=10;BYDAY=-1SU
END:STANDARD
END:VTIMEZONE
BEGIN:VEVENT
SUMMARY:\"Mój Dom\, Moje Otoczenie\" - Rybnik 2018
DTSTAMP:20180514T174011Z
SEQUENCE:0
UID:8-1-1c5bfffcd59744e957ce3a144d468c5c@forum.info-ogrzewanie.pl
ORGANIZER;CN="Ryszard":forum@info-ogrzewanie.pl
DESCRIPTION:\n\n	Zapraszamy do odwiedzenia targów \"Mój Dom\, Moje Oto
	czenie\" - Rybnik 2018.\n\n\n\n	Impreza skierowana jest do wszystkich\, kt
	órzy budują\, remontują\, urządzają.\n\n\n\n	Targi to oferta blisko 
	80 wystawców z regionu i nie tylko.\n\n\n\n	\n\n\n	Fot. Promocja-Targi Wa
	dowice\n\n\n\n	Dlaczego warto ?\n\n\n\n	Można poznać wiele nowości\, k
	tóre obecnie pojawiły się na rynku\, porozmawiać\, zasięgnąć porady
	.\n\n\n\n	Wystawcy na swoich stoiskach dysponują cenną wiedzą\, doradz
	ą\, zaprezentują innowacyjne rozwiązania.\n\n\n\n	Na targach w jednym m
	iejscu i czasie znajdzie się wiele nie tuzinkowych materiałów\, technol
	ogii\,\n\n	które można wykorzystać na każdym etapie budowy.\n\n\n\n	Wa
	rto sprawdzić jak świat wirtualnych projektów spotyka się z praktyczny
	mi rozwiązaniami\n\n	do tego konkursy\, pokazy\, prelekcje.\n\n\n\n	Zapra
	szamy już dzisiaj\, tylko dwa dni 19 - 20 maja.\n\n\n\n	 \n\n
DTSTART;VALUE=DATE:20180519
DTEND;VALUE=DATE:20180521
END:VEVENT
BEGIN:VEVENT
SUMMARY:XXIII Podhalańskie Targi Budownictwa\, Instalacji i Wyposa
	żenia Wnętrz
DTSTAMP:20180509T160425Z
SEQUENCE:0
UID:7-1-1c5bfffcd59744e957ce3a144d468c5c@forum.info-ogrzewanie.pl
ORGANIZER;CN="marcin":forum@info-ogrzewanie.pl
DESCRIPTION:\n\n	Zapraszamy mieszkańców Nowego Targu\, Podhala i pobli
	skich miejscowości do odwiedzenia naszej tegorocznej 23 edycji Targów Po
	dhalańskich\, która przebiegać będzie pod hasłem:\n\n\n\n	„WALCZYMY
	 O CZYSTE POWIETRZE DLA PODHALA”.\n\n\n\n	\n\n\n	Fot. Promocja Targi Wad
	owice\n\n\n\n	Naszym celem jest propagowanie działań zmierzających do 
	uświadomienia mieszkańcom jak ważna jest dla naszego zdrowia walka o cz
	yste powietrze\, zmniejszanie zanieczyszczenia\, dbanie o środowisko\, og
	rzewanie zwrócone na ekologię.\n\n\n\n	W tym celu podczas tej edycji ta
	rgów firmy będą prezentowały szereg rozwiązań\, które spełniają w
	arunki dofinansowania.\n\n\n\n	W jednym miejscu i czasie będzie można p
	orównać piece\, ceny\, a to wszystko wprost u źródła\, czyli u produ
	centów.\n\n\n\n	Na terenie zewnętrznym wielu z nich pokaże w praktyce j
	ak funkcjonują\, zaprezentowany zostanie proces palenia.\n\n\n\n	Będą
	 różne paliwa i różne piece.\n\n\n\n	A ponadto oferta ogniw fotowoltai
	cznych\, które obecnie zyskują coraz większa popularność wśród sp
	ołeczności.\n\n\n\n	Swoje stoisko będzie miał EKODORADCA\, który pr
	zybliży temat związany z dofinansowaniem do wymiany kotłów na ekologic
	zne\, spełniające aktualnie obowiązujące normy.\n\n\n\n	W tym roku tar
	gom towarzyszyć będzie konferencja Politechniki Krakowskiej  na tema
	t „Rozwiązania Innowacyjne w budownictwie”.\n\n\n\n	Odbędzie się w
	 sobotę 12 maja na Hali Lodowej o godzinie 12:00.\n\n\n\n	Targi Podhalań
	skie  to również liczne stoiska z:\n\n\n\n\n		elementami wyposażenia 
	wnętrz\,\n	\n	\n		materiałami budowlanymi\, \n	\n	\n		a także stoiska 
	prezentacyjne i sprzedażowe.\n	\n\n\n	Targi to miejsce prezentacji nowocz
	esnych technologii\, to możliwość bezpośredniego kontaktu z fachowcami
	 i specjalistami.\n\n\n\n	Rodzice\, którzy odwiedzą nasze targi ze swoim
	i dziećmi będą mogli zostawić je pod opieką animatorów z Klubu Krea
	tywnego Inżyniera FLOJAMO.\n\n\n\n	Dzieci będą budować budynki z auten
	tycznych\, miniaturowych materiałów budowlanych. Kreatywne i twórcze  
	zabawy sprawią dzieciom wiele radości.\n\n\n\n	Wszyscy którzy odwiedzą
	 nasze targi w dniach 12-13.05. i prawidłowo wypełnią otrzymany kupon 
	konkursowy wezmą udział w losowaniu nagród\, które ufundowali nasi wy
	stawcy.\n\n\n\n	Zachęcamy również do pobrania biletu na targi\, który 
	zna duje się na naszej stronie: www.promocja-targi.pl\n\n\n\n	Zapraszamy
	\,  12-13.05. Miejska Hala Lodowa ul. Parkowa 14\, Nowy Targ\,\n\n\n\n	Ta
	rgi będzie można odwiedzić zarówno w sobotę 12 maja jak i w niedziel
	ę 13 maja w godzinach od 10:00 do 17:00.\n\n\n\n	ORGANIZATOR – PROMOC
	JA – TARGI WADOWICE\n\n
DTSTART;VALUE=DATE:20180512
DTEND;VALUE=DATE:20180514
END:VEVENT
BEGIN:VEVENT
SUMMARY:Wkrętarka dla Wojtka 
DTSTAMP:20180418T093818Z
SEQUENCE:1
UID:5-1-1c5bfffcd59744e957ce3a144d468c5c@forum.info-ogrzewanie.pl
ORGANIZER;CN="marcin":forum@info-ogrzewanie.pl
DESCRIPTION:Wkrętarka dla Wojtka 
DTSTART:20180418T180000Z
DTEND:20180418T190000Z
END:VEVENT
BEGIN:VEVENT
SUMMARY:Targi budowlane BUD-GRYF i ENERGIA
DTSTAMP:20150119T144852Z
SEQUENCE:0
UID:3-1-1c5bfffcd59744e957ce3a144d468c5c@forum.info-ogrzewanie.pl
ORGANIZER;CN="marcin":forum@info-ogrzewanie.pl
DESCRIPTION:Już po raz 24 targi budowalne BUD-GRYF oraz towarzyszące i
	m o kilkunastu lat targi ENERGIA przyciągną do Szczecina firmy z branży
	\, architektów\, wykonawców\, i dystrybutorów materiałów budowlanych.
	 To jedyna tegotypu impreza na Pomorzu Zachodnim.\n\n\n\nWięcej informacj
	i:\n\nhttp://www.info-ogrzewanie.pl/wydarzenie\,id_w-106\,t-bud_gryf_i_ene
	rgia_szczecin_2015.html
DTSTART;VALUE=DATE:20150327
DTEND;VALUE=DATE:20150330
END:VEVENT
END:VCALENDAR
